BEGIN:VCALENDAR
VERSION:2.0
PRODID:-//Rochester NAWIC 314 - ECPv6.15.20//NONSGML v1.0//EN
CALSCALE:GREGORIAN
METHOD:PUBLISH
X-WR-CALNAME:Rochester NAWIC 314
X-ORIGINAL-URL:https://nawicrochester.org
X-WR-CALDESC:Events for Rochester NAWIC 314
REFRESH-INTERVAL;VALUE=DURATION:PT1H
X-Robots-Tag:noindex
X-PUBLISHED-TTL:PT1H
BEGIN:VTIMEZONE
TZID:America/New_York
BEGIN:DAYLIGHT
TZOFFSETFROM:-0500
TZOFFSETTO:-0400
TZNAME:EDT
DTSTART:20240310T070000
END:DAYLIGHT
BEGIN:STANDARD
TZOFFSETFROM:-0400
TZOFFSETTO:-0500
TZNAME:EST
DTSTART:20241103T060000
END:STANDARD
BEGIN:DAYLIGHT
TZOFFSETFROM:-0500
TZOFFSETTO:-0400
TZNAME:EDT
DTSTART:20250309T070000
END:DAYLIGHT
BEGIN:STANDARD
TZOFFSETFROM:-0400
TZOFFSETTO:-0500
TZNAME:EST
DTSTART:20251102T060000
END:STANDARD
BEGIN:DAYLIGHT
TZOFFSETFROM:-0500
TZOFFSETTO:-0400
TZNAME:EDT
DTSTART:20260308T070000
END:DAYLIGHT
BEGIN:STANDARD
TZOFFSETFROM:-0400
TZOFFSETTO:-0500
TZNAME:EST
DTSTART:20261101T060000
END:STANDARD
BEGIN:DAYLIGHT
TZOFFSETFROM:-0500
TZOFFSETTO:-0400
TZNAME:EDT
DTSTART:20270314T070000
END:DAYLIGHT
BEGIN:STANDARD
TZOFFSETFROM:-0400
TZOFFSETTO:-0500
TZNAME:EST
DTSTART:20271107T060000
END:STANDARD
END:VTIMEZONE
BEGIN:VEVENT
DTSTART;TZID=America/New_York:20260401T173000
DTEND;TZID=America/New_York:20260401T193000
DTSTAMP:20260421T173556
CREATED:20251015T152637Z
LAST-MODIFIED:20260320T131940Z
UID:10000065-1775064600-1775071800@nawicrochester.org
SUMMARY:April 2026 Meeting
DESCRIPTION:When: April 1st 530-730PM\nWhere: FW Webb’s office\n\nF.W. Webb Company\n200 Holleder Parkway\nRochester\, NY 14615\n\nCome join us as we tour the new FW WEBB facility. WEBB is the largest Wholesale Distributor of Plumbing\, Heating and HVAC Products in the Northeast; light refreshments included.\nTickets: $35/$45
URL:https://nawicrochester.org/event/april-2026-meeting/
LOCATION:NY
CATEGORIES:Dinners
ATTACH;FMTTYPE=image/png:https://nawicrochester.org/wp-content/uploads/2025/10/2026-04-2.png
END:VEVENT
BEGIN:VEVENT
DTSTART;TZID=America/New_York:20260306T160000
DTEND;TZID=America/New_York:20260306T200000
DTSTAMP:20260421T173556
CREATED:20260129T202818Z
LAST-MODIFIED:20260129T202857Z
UID:10000072-1772812800-1772827200@nawicrochester.org
SUMMARY:Rochester Tradeswomen Dinner
DESCRIPTION:Join us for dinner and drinks at Fairport Brewing as we chat\, network\, and discuss topics that impact women in the trades.\nDinner served at 5 PM\nFree Dinner – Cash Bar – Raffles – Door Prizes!\nAll are Welcome! \nPlease click here to RSVP.
URL:https://nawicrochester.org/event/rochester-tradeswomen-dinner/
LOCATION:Fairport Brewing\, 1044 University Ave\, Rochester\, NY\, United States
CATEGORIES:WIC Week
ATTACH;FMTTYPE=image/jpeg:https://nawicrochester.org/wp-content/uploads/2026/01/Tradeswomen-DInner-1.jpg
END:VEVENT
BEGIN:VEVENT
DTSTART;TZID=America/New_York:20260305T170000
DTEND;TZID=America/New_York:20260305T200000
DTSTAMP:20260421T173556
CREATED:20251015T190236Z
LAST-MODIFIED:20260212T180427Z
UID:10000068-1772730000-1772740800@nawicrochester.org
SUMMARY:Annual Chapter Fundraiser: Guest Bartending Event
DESCRIPTION:
URL:https://nawicrochester.org/event/annual-chapter-fundraiser-guest-bartending-event/
LOCATION:Lovin’ Cup\, 300 Park Point Drive\, Rochester\, New York\, 14623
CATEGORIES:Dinners
ATTACH;FMTTYPE=image/png:https://nawicrochester.org/wp-content/uploads/2025/10/2026-03-event-1.png
END:VEVENT
BEGIN:VEVENT
DTSTART;TZID=America/New_York:20260303T173000
DTEND;TZID=America/New_York:20260303T193000
DTSTAMP:20260421T173556
CREATED:20260129T181942Z
LAST-MODIFIED:20260212T180449Z
UID:10000071-1772559000-1772566200@nawicrochester.org
SUMMARY:Tour of Susan B Anthony House
DESCRIPTION:
URL:https://nawicrochester.org/event/tour-of-susan-b-anthony-house/
LOCATION:Susan B Athony House\, 17 Madison Street\, Rochester\, NY\, 14608\, United States
CATEGORIES:WIC Week
ATTACH;FMTTYPE=image/png:https://nawicrochester.org/wp-content/uploads/2025/10/2026-04.png
END:VEVENT
BEGIN:VEVENT
DTSTART;TZID=America/New_York:20260302T080000
DTEND;TZID=America/New_York:20260302T100000
DTSTAMP:20260421T173556
CREATED:20260127T225707Z
LAST-MODIFIED:20260212T180502Z
UID:10000070-1772438400-1772445600@nawicrochester.org
SUMMARY:Coffee and Conversation at Builders Exchange of Rochester
DESCRIPTION:
URL:https://nawicrochester.org/event/coffee-and-conversation-at-builders-exchange-of-rochester/
LOCATION:Builders Exchange of Rochester\, 180 Linden Oaks\, Suite 100\, Rochester\, 14625\, United States
CATEGORIES:WIC Week
ATTACH;FMTTYPE=image/png:https://nawicrochester.org/wp-content/uploads/2025/10/2026-02.png
END:VEVENT
BEGIN:VEVENT
DTSTART;TZID=America/New_York:20260123T150000
DTEND;TZID=America/New_York:20260123T170000
DTSTAMP:20260421T173556
CREATED:20251229T185744Z
LAST-MODIFIED:20251229T190317Z
UID:10000069-1769180400-1769187600@nawicrochester.org
SUMMARY:New Year Networking & Golf Simulator Social
DESCRIPTION:Curious about NAWIC? This is the perfect time to see what we’re all about! \nWhen: January 23\, 2026\, 3:00 PM – 5:00 PM\nWhere: Campus Construction\, Recreational Meeting Space (1221 Pittsford Victor Rd\, Pittsford\, NY 14534) \nThis is a free event\, but an RSVP is requested. \nCome meet the ladies of NAWIC\, hit a few balls on the golf simulator\, enjoy drinks\, and connect with women in the construction industry!\nContact Giana Gengo with any questions: 716-380-5448
URL:https://nawicrochester.org/event/new-year-networking-golf-simulator-social/
LOCATION:Campus Construction\, 1221 Pittsford Victor Rd\, Pittsford\, NY\, 14534
CATEGORIES:Dinners
ATTACH;FMTTYPE=image/png:https://nawicrochester.org/wp-content/uploads/2025/12/NAWIC-Golf-Social-Flyer-1.png
END:VEVENT
BEGIN:VEVENT
DTSTART;TZID=America/New_York:20260107T173000
DTEND;TZID=America/New_York:20260107T193000
DTSTAMP:20260421T173556
CREATED:20251015T152009Z
LAST-MODIFIED:20251211T175814Z
UID:10000062-1767807000-1767814200@nawicrochester.org
SUMMARY:January 2026 Meeting
DESCRIPTION:Hands Only CPR Demonstration presented by the American Heart Association\nWhen: 1/7/26 5:30-7:30 PM\nWhere; John W Danforth- 930 Old Dutch Road Victor NY\n\nThe American Heart Association will be performing a Hands only CPR class with a short video and presentation and they will bring dummies to practice on. Light snacks included.\nSponsored by John W Danforth\nTickets: $35 (Members) / $45 (Non-Members)
URL:https://nawicrochester.org/event/january-2026-meeting/
LOCATION:NY
CATEGORIES:Dinners
ATTACH;FMTTYPE=image/png:https://nawicrochester.org/wp-content/uploads/2025/10/2026-01-1.png
END:VEVENT
BEGIN:VEVENT
DTSTART;TZID=America/New_York:20251203T173000
DTEND;TZID=America/New_York:20251203T193000
DTSTAMP:20260421T173556
CREATED:20251015T151717Z
LAST-MODIFIED:20251117T172042Z
UID:10000061-1764783000-1764790200@nawicrochester.org
SUMMARY:December 2025 Meeting - Annual Holiday Party!
DESCRIPTION:🎄 NAWIC Rochester Chapter 314 Annual Holiday Party 🎄\nDate: Wednesday\, December 3rdTime: 5:30 – 7:30 PMLocation: Rohrbach Railroad Street Beer Hall📍 97 Railroad St\, Rochester\, NY 14609 \nJoin us for an evening of holiday cheer\, networking\, and celebration! – Holiday attire/Christmas sweaters are encouraged!\nTickets includes light snacks\, one drink ticket and fun filled socializing and networking before the holidays. All are welcome to join us for this festive evening — NAWIC members\, colleagues\, and friends!Tickets are required for all attendees. \nTickets: $35 Members/$45 Non-Members \nThis month’s event is sponsored by: Hewitt Young \n🎁 Holiday Giving Opportunity\nThis year\, we’re proud to support The Margaret Home\, a residential program that empowers pregnant and parenting mothers by meeting their physical\, emotional\, educational\, and spiritual needs. We’ll be collecting donations at the party to benefit the families of The Margaret Home\, See details in the flyer below. Let’s show the strength and generosity of our Women in Construction community this holiday season!
URL:https://nawicrochester.org/event/december-2025-meeting/
LOCATION:Rohrbach Railroad Street Beer Hall\, 97 Railroad St\, Rochester\, NY\, 14609
CATEGORIES:Dinners
ATTACH;FMTTYPE=image/png:https://nawicrochester.org/wp-content/uploads/2025/10/2025-12-1.png
END:VEVENT
BEGIN:VEVENT
DTSTART;TZID=America/New_York:20251105T173000
DTEND;TZID=America/New_York:20251105T200000
DTSTAMP:20260421T173556
CREATED:20251014T200518Z
LAST-MODIFIED:20251015T142655Z
UID:10000060-1762363800-1762372800@nawicrochester.org
SUMMARY:November 2025 Meeting
DESCRIPTION:When : November 5th 5:30 – 8:00 PM \nWhere :\nX-Golf Pittsford\n3349 Monroe Ave\, Rochester\, NY 14618\nSponsored by Pike Construction Services \nTickets include: \n\n\nLight snacks\n2 drink tickets\n2 hours of shared golf fun!\n\n\n 
URL:https://nawicrochester.org/event/november-2025-meeting/
LOCATION:X-Golf Pittsford\, 3349 Monroe Ave\, Rochester\, NY\, 14618
CATEGORIES:Dinners
ATTACH;FMTTYPE=image/png:https://nawicrochester.org/wp-content/uploads/2025/10/NAWIC-April-Meeting.png
END:VEVENT
BEGIN:VEVENT
DTSTART;TZID=America/New_York:20251001T173000
DTEND;TZID=America/New_York:20251001T193000
DTSTAMP:20260421T173556
CREATED:20250911T201712Z
LAST-MODIFIED:20250915T145003Z
UID:10000059-1759339800-1759347000@nawicrochester.org
SUMMARY:October 2025 Meeting
DESCRIPTION:When : October 1st 5:30 – 7:30 PM \nWhere :\nLeChase Construction\n205 Indigo Creek Dr Rochester NY 14626 \nWhat : \n\n\nJerrod Garrett\, Director of Environmental Health and Safety at LeChase\, will be presenting on Womens PPE in the workplace\n\n\n 
URL:https://nawicrochester.org/event/october-2025-meeting/
LOCATION:LeChase Construction\, 205 Indigo Creek Dr\, Rochester\, NY\, 14626\, United States
CATEGORIES:Dinners
ATTACH;FMTTYPE=image/png:https://nawicrochester.org/wp-content/uploads/2025/09/NAWIC-Oct-Meeting-v3.png
END:VEVENT
BEGIN:VEVENT
DTSTART;TZID=America/New_York:20250910T173000
DTEND;TZID=America/New_York:20250910T193000
DTSTAMP:20260421T173556
CREATED:20250807T165828Z
LAST-MODIFIED:20250807T165828Z
UID:10000058-1757525400-1757532600@nawicrochester.org
SUMMARY:September 2025 Meeting
DESCRIPTION:When : September 10th 5:30 – 7:30 PM \nWhere :\nPenfield CSD Transportation Center\n1340 Jackson Road Webster NY 14580 \nWhat : \n\n\n\nNo PPE required as this facility is in use\n\n\nJoin us for a light dinner afterwards\n\n\n\n 
URL:https://nawicrochester.org/event/september-2025-meeting/
LOCATION:Penfield CSD Transportation Center\, 1340 Jackson Road\, Webster\, NY\, 14580\, United States
CATEGORIES:Dinners
ATTACH;FMTTYPE=image/png:https://nawicrochester.org/wp-content/uploads/2025/08/NAWIC-September-MEETING.png
END:VEVENT
BEGIN:VEVENT
DTSTART;TZID=America/New_York:20250604T173000
DTEND;TZID=America/New_York:20250604T193000
DTSTAMP:20260421T173556
CREATED:20250521T174114Z
LAST-MODIFIED:20250522T151450Z
UID:10000057-1749058200-1749065400@nawicrochester.org
SUMMARY:June 2025 Meeting
DESCRIPTION:When : June 4th 5:30 – 7:30 PM \nWhere :\nKings Bend Park\nNorth Lodge\n170 West Jefferson Rd\, Pittsford NY 14534 \nWhat : \n\n\n2025 Scholarship Awards\n’25-26 NAWIC board Elections\nPresentation by Chandra (Chan.) McKenzie and Anne Coon  She\, Unsung #4  highlighting Patricia Hynes\, one of the founding members of our chapter.  (Insert photo of Pat from our scholarship page of website)\n\n\n 
URL:https://nawicrochester.org/event/june-2025-meeting/
LOCATION:Kings Bend Park Pittsford\, 170 W Jefferson Rd\, Pittsford\, NY\, 14534\, United States
CATEGORIES:Dinners
ATTACH;FMTTYPE=image/png:https://nawicrochester.org/wp-content/uploads/2025/05/NAWIC-JUNE-2025-Meeting.png
END:VEVENT
BEGIN:VEVENT
DTSTART;TZID=America/New_York:20250514T173000
DTEND;TZID=America/New_York:20250514T193000
DTSTAMP:20260421T173556
CREATED:20250416T194306Z
LAST-MODIFIED:20250416T194306Z
UID:10000056-1747243800-1747251000@nawicrochester.org
SUMMARY:May 2025 Meeting
DESCRIPTION:When : Wednesday May 14th 5:30 – 7:30 PM \nWhere : Long Acre Farms\n1342 Eddy Road\nMacedon NY 14502 \nWhat : Tour of Long Acre’s Solar Array\, Presentation\, Refreshments & Networking. \n 
URL:https://nawicrochester.org/event/may-2025-meeting/
LOCATION:Long Acre Farms\, 1342 Eddy Road\, Macedon\, NY\, 14502\, United States
CATEGORIES:Dinners
ATTACH;FMTTYPE=image/png:https://nawicrochester.org/wp-content/uploads/2025/04/0-1.png
END:VEVENT
END:VCALENDAR